BEGIN:VCALENDAR
VERSION:2.0
PRODID:spatie/icalendar-generator
DESCRIPTION:紙の博物館のイベント
X-WR-CALDESC:紙の博物館のイベント
REFRESH-INTERVAL;VALUE=DURATION:PT1440M
X-PUBLISHED-TTL:PT1440M
BEGIN:VTIMEZONE
TZID:Asia/Tokyo
BEGIN:STANDARD
DTSTART:20230312T000000Z
TZOFFSETFROM:+0900
TZOFFSETTO:+0900
END:STANDARD
END:VTIMEZONE
BEGIN:VTIMEZONE
TZID:UTC
BEGIN:STANDARD
DTSTART:20250727T085210Z
TZOFFSETFROM:+0000
TZOFFSETTO:+0000
END:STANDARD
END:VTIMEZONE
BEGIN:VEVENT
UID:4352-468
DTSTAMP:20260423T085210Z
SUMMARY:臨時休館日
LOCATION:
ORGANIZER;CN=NakayamaYohei:MAILTO:info@roundup-consulting.jp
DTSTART;TZID=Asia/Tokyo;VALUE=DATE:20231207
DTEND;TZID=Asia/Tokyo;VALUE=DATE:20231208
X-ALT-DESC;FMTTYPE=TEXT/HTML:
CATEGORIES:holiday
URL;VALUE=URI:https://stage10.roundup-server.biz/ja/mc-events/%e8%87%a8%e6%
 99%82%e4%bc%91%e9%a4%a8%e6%97%a5-4/
METHOD:PUBLISH
END:VEVENT
END:VCALENDAR