BEGIN:VCALENDAR
VERSION:2.0
PRODID:spatie/icalendar-generator
DESCRIPTION:紙の博物館のイベント
X-WR-CALDESC:紙の博物館のイベント
REFRESH-INTERVAL;VALUE=DURATION:PT1440M
X-PUBLISHED-TTL:PT1440M
BEGIN:VTIMEZONE
TZID:Asia/Tokyo
BEGIN:STANDARD
DTSTART:20231119T000000Z
TZOFFSETFROM:+0900
TZOFFSETTO:+0900
END:STANDARD
END:VTIMEZONE
BEGIN:VTIMEZONE
TZID:UTC
BEGIN:STANDARD
DTSTART:20250725T085333Z
TZOFFSETFROM:+0000
TZOFFSETTO:+0000
END:STANDARD
END:VTIMEZONE
BEGIN:VEVENT
UID:4406-526
DTSTAMP:20260421T085333Z
SUMMARY:親子で牛乳パック工作
LOCATION:
ORGANIZER;CN=NakayamaYohei:MAILTO:info@roundup-consulting.jp
DTSTART;TZID=Asia/Tokyo;VALUE=DATE:20240815
DTEND;TZID=Asia/Tokyo;VALUE=DATE:20240816
X-ALT-DESC;FMTTYPE=TEXT/HTML:
CATEGORIES:kamisuki
URL;VALUE=URI:https://stage10.roundup-server.biz/ja/mc-events/%e8%a6%aa%e5%
 ad%90%e3%81%a7%e7%89%9b%e4%b9%b3%e3%83%91%e3%83%83%e3%82%af%e5%b7%a5%e4%bd
 %9c-2/
METHOD:PUBLISH
END:VEVENT
END:VCALENDAR