BEGIN:VCALENDAR
VERSION:2.0
PRODID:spatie/icalendar-generator
DESCRIPTION:紙の博物館のイベント
X-WR-CALDESC:紙の博物館のイベント
REFRESH-INTERVAL;VALUE=DURATION:PT1440M
X-PUBLISHED-TTL:PT1440M
BEGIN:VTIMEZONE
TZID:Asia/Tokyo
BEGIN:STANDARD
DTSTART:20230810T133000Z
TZOFFSETFROM:+0900
TZOFFSETTO:+0900
END:STANDARD
END:VTIMEZONE
BEGIN:VTIMEZONE
TZID:UTC
BEGIN:STANDARD
DTSTART:20250725T131550Z
TZOFFSETFROM:+0000
TZOFFSETTO:+0000
END:STANDARD
END:VTIMEZONE
BEGIN:VEVENT
UID:4502-622
DTSTAMP:20260421T131550Z
SUMMARY:浮世絵手摺り実演・体験会
LOCATION:
ORGANIZER;CN=NakayamaYohei:MAILTO:info@roundup-consulting.jp
DTSTART;TZID=Asia/Tokyo:20240506T133000
DTEND;TZID=Asia/Tokyo:20240506T160000
X-ALT-DESC;FMTTYPE=TEXT/HTML:
CATEGORIES:kamisuki
URL;VALUE=URI:https://stage10.roundup-server.biz/ja/mc-events/%e6%b5%ae%e4%
 b8%96%e7%b5%b5%e6%89%8b%e6%91%ba%e3%82%8a%e5%ae%9f%e6%bc%94%e3%83%bb%e4%bd
 %93%e9%a8%93%e4%bc%9a/
METHOD:PUBLISH
END:VEVENT
END:VCALENDAR